BEGIN:VCALENDAR
VERSION:2.0
PRODID:-//GEWC - ECPv6.15.11//NONSGML v1.0//EN
CALSCALE:GREGORIAN
METHOD:PUBLISH
X-WR-CALNAME:GEWC
X-ORIGINAL-URL:https://gewcministry.org
X-WR-CALDESC:Events for GEWC
REFRESH-INTERVAL;VALUE=DURATION:PT1H
X-Robots-Tag:noindex
X-PUBLISHED-TTL:PT1H
BEGIN:VTIMEZONE
TZID:UTC
BEGIN:STANDARD
TZOFFSETFROM:+0000
TZOFFSETTO:+0000
TZNAME:UTC
DTSTART:20210101T000000
END:STANDARD
END:VTIMEZONE
BEGIN:VEVENT
DTSTART;TZID=UTC:20251221T083000
DTEND;TZID=UTC:20251221T120000
DTSTAMP:20260424T125615
CREATED:20251203T120508Z
LAST-MODIFIED:20251203T120552Z
UID:44596-1766305800-1766318400@gewcministry.org
SUMMARY:December Central Healing Service
DESCRIPTION:  \n“December Central Healing Service” Shall be transmitted via GEWC Satellite (CUTV) and Live-Streamed via all the Ministry’s online Channels. Date: Sunday 21st December 2025 Time: 8.30am Venue: GEWC Headquarters Temple along Port Harcourt Int’l Airport Road Rukpokwu\, and all GEWC Local Churches.
URL:https://gewcministry.org/event/december-central-healing-service-4/
CATEGORIES:Healing Service
END:VEVENT
BEGIN:VEVENT
DTSTART;TZID=UTC:20251123T083000
DTEND;TZID=UTC:20251123T123000
DTSTAMP:20260424T125615
CREATED:20251117T104404Z
LAST-MODIFIED:20251117T104404Z
UID:44209-1763886600-1763901000@gewcministry.org
SUMMARY:November  Central Healing Service
DESCRIPTION:  \n  \n“November  Central Healing Service” Shall be transmitted via GEWC Satellite (CUTV) and Live-Streamed via all the Ministry’s online Channels. Date: Sunday 23rd November 2025 Time: 8.30am Venue: GEWC Headquarters Temple along Port Harcourt Int’l Airport Road Rukpokwu.
URL:https://gewcministry.org/event/november-central-healing-service-3/
CATEGORIES:Healing Service
END:VEVENT
BEGIN:VEVENT
DTSTART;TZID=UTC:20250518T083000
DTEND;TZID=UTC:20250518T083000
DTSTAMP:20260424T125615
CREATED:20250507T123005Z
LAST-MODIFIED:20250507T123005Z
UID:36397-1747557000-1747557000@gewcministry.org
SUMMARY:May Central Healing Service
DESCRIPTION:“May Central Healing Service” Shall be transmitted via GEWC Satellite (CUTV) and Live-Streamed via all the Ministry’s online Channels. Date: Sunday 18th May 2025 Time: 8.30am Venue: GEWC Headquarters Temple along Port Harcourt Int’l Airport Road Rukpokwu\, and all GEWC Local Churches.
URL:https://gewcministry.org/event/may-central-healing-service-4/
CATEGORIES:Healing Service
END:VEVENT
BEGIN:VEVENT
DTSTART;TZID=UTC:20241020T083000
DTEND;TZID=UTC:20241020T123000
DTSTAMP:20260424T125615
CREATED:20241007T134812Z
LAST-MODIFIED:20241007T134812Z
UID:31113-1729413000-1729427400@gewcministry.org
SUMMARY:October Central Healing Service
DESCRIPTION:“October Central Healing Service” Shall be transmitted via GEWC Satellite (CUTV) and Live-Streamed via all the Ministry’s online Channels. Date: Sunday 20th October 2024 Time: 8.30am Venue: GEWC Headquarters Temple along Port Harcourt Int’l Airport Road Rukpokwu\, and all GEWC Local Churches.
URL:https://gewcministry.org/event/october-central-healing-service-3/
LOCATION:GEWC Headquarters Temple along Port Harcourt Int’l Airport Road Rukpokwu\, Port Harcourt\, Rivers State\, Nigeria
CATEGORIES:Healing Service
ATTACH;FMTTYPE=image/png:https://gewcministry.org/wp-content/uploads/2024/10/October-2024-CHS.png
END:VEVENT
BEGIN:VEVENT
DTSTART;TZID=UTC:20240922T083000
DTEND;TZID=UTC:20240922T120000
DTSTAMP:20260424T125615
CREATED:20240819T125716Z
LAST-MODIFIED:20240819T125716Z
UID:30620-1726993800-1727006400@gewcministry.org
SUMMARY:September Central Healing Service
DESCRIPTION:“September Central Healing Service” Shall be transmitted via GEWC Satellite (CUTV) and Live-Streamed via all the Ministry’s online Channels. Date: Sunday 2snd September 2024 Time: 8.30am Venue: GEWC Headquarters Temple along Port Harcourt Int’l Airport Road Rukpokwu\, and all GEWC Local Churches.
URL:https://gewcministry.org/event/september-central-healing-service-4/
CATEGORIES:Healing Service,Thanksgiving
END:VEVENT
BEGIN:VEVENT
DTSTART;TZID=UTC:20240721T083000
DTEND;TZID=UTC:20240721T120000
DTSTAMP:20260424T125615
CREATED:20240702T100004Z
LAST-MODIFIED:20240702T100004Z
UID:30114-1721550600-1721563200@gewcministry.org
SUMMARY:July Central Healing Service
DESCRIPTION:“June Central Healing Service” Shall be transmitted via GEWC Satellite (CUTV) and Live-Streamed via all the Ministry’s online Channels. Date: Sunday 21st July 2024 Time: 8.30am Venue: GEWC Headquarters Temple along Port Harcourt Int’l Airport Road Rukpokwu\, and all GEWC Local Churches.
URL:https://gewcministry.org/event/july-central-healing-service-3/
CATEGORIES:Healing Service
END:VEVENT
BEGIN:VEVENT
DTSTART;TZID=UTC:20240623T083000
DTEND;TZID=UTC:20240623T120000
DTSTAMP:20260424T125615
CREATED:20240605T100154Z
LAST-MODIFIED:20240605T100154Z
UID:29799-1719131400-1719144000@gewcministry.org
SUMMARY:June Central Healing Service
DESCRIPTION:“June Central Healing Service” Shall be transmitted via GEWC Satellite (CUTV) and Live-Streamed via all the Ministry’s online Channels. Date: Sunday 23rd June 2024 Time: 8.30am Venue: GEWC Headquarters Temple along Port Harcourt Int’l Airport Road Rukpokwu\, and all GEWC Local Churches.
URL:https://gewcministry.org/event/june-central-healing-service-3/
CATEGORIES:Healing Service
END:VEVENT
BEGIN:VEVENT
DTSTART;TZID=UTC:20240519T083000
DTEND;TZID=UTC:20240519T140000
DTSTAMP:20260424T125615
CREATED:20240415T093440Z
LAST-MODIFIED:20240415T093440Z
UID:29281-1716107400-1716127200@gewcministry.org
SUMMARY:May Central Healing Service
DESCRIPTION:“May Central Healing Service” Shall be transmitted via GEWC Satellite (CUTV) and Live-Streamed via all the Ministry’s online Channels. Date: Sunday 19th May 2024 Time: 8.30am Venue: GEWC Headquarters Temple along Port Harcourt Int’l Airport Road Rukpokwu\, and all GEWC Local Churches.
URL:https://gewcministry.org/event/may-central-healing-service-3/
CATEGORIES:Healing Service
END:VEVENT
BEGIN:VEVENT
DTSTART;TZID=UTC:20240421T083000
DTEND;TZID=UTC:20240421T123000
DTSTAMP:20260424T125615
CREATED:20240109T112034Z
LAST-MODIFIED:20240109T112034Z
UID:27951-1713688200-1713702600@gewcministry.org
SUMMARY:April Central Healing Service
DESCRIPTION:“April Central Healing Service” Shall be transmitted via GEWC Satellite (CUTV) and Live-Streamed via all the Ministry’s online Channels. Date: Sunday 21st April 2024 Time: 8.30am Venue: GEWC Headquarters Temple along Port Harcourt Int’l Airport Road Rukpokwu\, and all GEWC Local Churches.
URL:https://gewcministry.org/event/april-central-healing-service-3/
CATEGORIES:Healing Service
END:VEVENT
BEGIN:VEVENT
DTSTART;TZID=UTC:20240324T083000
DTEND;TZID=UTC:20240324T123000
DTSTAMP:20260424T125615
CREATED:20240109T111429Z
LAST-MODIFIED:20240109T111429Z
UID:27946-1711269000-1711283400@gewcministry.org
SUMMARY:March Central Healing Service
DESCRIPTION:“March Central Healing Service” Shall be transmitted via GEWC Satellite (CUTV) and Live-Streamed via all the Ministry’s online Channels. Date: Sunday 24th March 2024 Time: 8.30am Venue: GEWC Headquarters Temple along Port Harcourt Int’l Airport Road Rukpokwu\, and all GEWC Local Churches.
URL:https://gewcministry.org/event/march-central-healing-service-3/
CATEGORIES:Healing Service
END:VEVENT
BEGIN:VEVENT
DTSTART;TZID=UTC:20240218T083000
DTEND;TZID=UTC:20240218T123000
DTSTAMP:20260424T125615
CREATED:20240109T104058Z
LAST-MODIFIED:20240109T104058Z
UID:27932-1708245000-1708259400@gewcministry.org
SUMMARY:February Central Healing Service
DESCRIPTION:“February Central Healing Service” Shall be transmitted via GEWC Satellite (CUTV) and Live-Streamed via all the Ministry’s online Channels. Date: Sunday 18th February 2024 Time: 8.30am Venue: GEWC Headquarters Temple along Port Harcourt Int’l Airport Road Rukpokwu\, and all GEWC Local Churches.
URL:https://gewcministry.org/event/february-central-healing-service-3/
CATEGORIES:Healing Service
END:VEVENT
BEGIN:VEVENT
DTSTART;TZID=UTC:20240121T083000
DTEND;TZID=UTC:20240121T123000
DTSTAMP:20260424T125615
CREATED:20240109T101523Z
LAST-MODIFIED:20240109T101523Z
UID:27924-1705825800-1705840200@gewcministry.org
SUMMARY:January Central Healing Service
DESCRIPTION:  \n“January Central Healing Service” Shall be transmitted via GEWC Satellite (CUTV) and Live-Streamed via all the Ministry’s online Channels. Date: Sunday 21st January 2024 Time: 8.30am Venue: GEWC Headquarters Temple along Port Harcourt Int’l Airport Road Rukpokwu\, and all GEWC Local Churches.
URL:https://gewcministry.org/event/january-central-healing-service-2/
CATEGORIES:Healing Service
END:VEVENT
BEGIN:VEVENT
DTSTART;TZID=UTC:20231224T083000
DTEND;TZID=UTC:20231224T120000
DTSTAMP:20260424T125615
CREATED:20231130T103941Z
LAST-MODIFIED:20231130T103941Z
UID:27375-1703406600-1703419200@gewcministry.org
SUMMARY:December Central Healing Service
DESCRIPTION:“December Central Healing Service” Shall be transmitted via GEWC Satellite (CUTV) and Live-Streamed via all the Ministry’s online Channels. Date: Sunday 24th December 2023 Time: 8.30am Venue: GEWC Headquarters Temple along Port Harcourt Int’l Airport Road Rukpokwu\, and all GEWC Local Churches.
URL:https://gewcministry.org/event/december-central-healing-service-3/
CATEGORIES:Healing Service
END:VEVENT
BEGIN:VEVENT
DTSTART;TZID=UTC:20231119T083000
DTEND;TZID=UTC:20231119T123000
DTSTAMP:20260424T125615
CREATED:20231030T101341Z
LAST-MODIFIED:20231030T101341Z
UID:26876-1700382600-1700397000@gewcministry.org
SUMMARY:November Central Healing Service
DESCRIPTION:“November Central Healing Service” Shall be transmitted via GEWC Satellite (CUTV) and Live-Streamed via all the Ministry’s online Channels. Date: Sunday 19th\, November 2023 Time: 8.30am Venue: GEWC Headquarters Temple along Port Harcourt Int’l Airport Road Rukpokwu\, and all GEWC Local Churches.
URL:https://gewcministry.org/event/november-central-healing-service-2/
CATEGORIES:Healing Service
END:VEVENT
BEGIN:VEVENT
DTSTART;TZID=UTC:20231022T083000
DTEND;TZID=UTC:20231022T123000
DTSTAMP:20260424T125615
CREATED:20230925T111858Z
LAST-MODIFIED:20230925T111858Z
UID:26027-1697963400-1697977800@gewcministry.org
SUMMARY:October Central Healing Service
DESCRIPTION:“October Central Healing Service” Shall be transmitted via GEWC Satellite (CUTV) and Live-Streamed via all the Ministry’s online Channels. Date: Sunday 22nd October 2023 Time: 8.30am Venue: GEWC Headquarters Temple along Port Harcourt Int’l Airport Road Rukpokwu\, and all GEWC Local Churches.
URL:https://gewcministry.org/event/october-central-healing-service-2/
CATEGORIES:Healing Service
END:VEVENT
BEGIN:VEVENT
DTSTART;TZID=UTC:20230917T080000
DTEND;TZID=UTC:20230917T123000
DTSTAMP:20260424T125615
CREATED:20230821T112834Z
LAST-MODIFIED:20230821T112834Z
UID:25406-1694937600-1694953800@gewcministry.org
SUMMARY:September Central Healing Service
DESCRIPTION:“September Central Healing Service” Shall be transmitted via GEWC Satellite (CUTV) and Live-Streamed via all the Ministry’s online Channels. Date: Sunday 17th September 2023 Time: 8.30am Venue: GEWC Headquarters Temple along Port Harcourt Int’l Airport Road Rukpokwu\, and all GEWC Local Churches.
URL:https://gewcministry.org/event/september-central-healing-service-3/
CATEGORIES:Healing Service
END:VEVENT
BEGIN:VEVENT
DTSTART;TZID=UTC:20230820T083000
DTEND;TZID=UTC:20230820T123000
DTSTAMP:20260424T125615
CREATED:20230605T113004Z
LAST-MODIFIED:20230821T112405Z
UID:14401-1692520200-1692534600@gewcministry.org
SUMMARY:August Central Healing Service
DESCRIPTION:“August Central Healing Service” Shall be transmitted via GEWC Satellite (CUTV) and Live-Streamed via all the Ministry’s online Channels. Date: Sunday 20th August 2023 Time: 8.30am Venue: GEWC Headquarters Temple along Port Harcourt Int’l Airport Road Rukpokwu\, and all GEWC Local Churches.
URL:https://gewcministry.org/event/august-central-healing-service-2/
CATEGORIES:Healing Service
END:VEVENT
BEGIN:VEVENT
DTSTART;TZID=UTC:20230723T083000
DTEND;TZID=UTC:20230723T123000
DTSTAMP:20260424T125615
CREATED:20230605T112721Z
LAST-MODIFIED:20230803T104237Z
UID:14399-1690101000-1690115400@gewcministry.org
SUMMARY:July Central Healing Service
DESCRIPTION:“July Central Healing Service” Shall be transmitted via GEWC Satellite (CUTV) and Live-Streamed via all the Ministry’s online Channels. Date: Sunday 23rd July 2023 Time: 8.30am Venue: GEWC Headquarters Temple along Port Harcourt Int’l Airport Road Rukpokwu\, and all GEWC Local Churches.
URL:https://gewcministry.org/event/july-central-healing-service-2/
CATEGORIES:Healing Service
END:VEVENT
BEGIN:VEVENT
DTSTART;TZID=UTC:20230618T083000
DTEND;TZID=UTC:20230618T123000
DTSTAMP:20260424T125615
CREATED:20230605T111740Z
LAST-MODIFIED:20230628T100332Z
UID:14395-1687077000-1687091400@gewcministry.org
SUMMARY:June Central Healing Service
DESCRIPTION:“June Central Healing Service” Shall be transmitted via GEWC Satellite (CUTV) and Live-Streamed via all the Ministry’s online Channels. Date: Sunday 18th June 2023 Time: 8.30am Venue: GEWC Headquarters Temple along Port Harcourt Int’l Airport Road Rukpokwu\, and all GEWC Local Churches.
URL:https://gewcministry.org/event/june-central-healing-service-2/
CATEGORIES:Healing Service
END:VEVENT
BEGIN:VEVENT
DTSTART;TZID=UTC:20230521T083000
DTEND;TZID=UTC:20230521T123000
DTSTAMP:20260424T125615
CREATED:20230320T115156Z
LAST-MODIFIED:20230320T115156Z
UID:13082-1684657800-1684672200@gewcministry.org
SUMMARY:May Central Healing Service
DESCRIPTION:“May Central Healing Service” Shall be transmitted via GEWC Satellite (CUTV) and Live-Streamed via all the Ministry’s online Channels. Date: Sunday 21st May 2023 Time: 8.30am Venue: All GEWC Local Churches.
URL:https://gewcministry.org/event/may-central-healing-service-2/
CATEGORIES:Healing Service
END:VEVENT
BEGIN:VEVENT
DTSTART;TZID=UTC:20230219T083000
DTEND;TZID=UTC:20230219T123000
DTSTAMP:20260424T125615
CREATED:20230203T103307Z
LAST-MODIFIED:20230203T104612Z
UID:12256-1676795400-1676809800@gewcministry.org
SUMMARY:February Central Healing Service
DESCRIPTION:“February Central Healing Service” Shall be transmitted via GEWC Satellite (CUTV) and Live-Streamed via all the Ministry’s online Channels. Date: Sunday 19th February 2023 Time: 8.30am Venue: All GEWC Local Churches.
URL:https://gewcministry.org/event/february-central-healing-service-2/
CATEGORIES:Healing Service
END:VEVENT
BEGIN:VEVENT
DTSTART;TZID=UTC:20221218T083000
DTEND;TZID=UTC:20221218T123000
DTSTAMP:20260424T125615
CREATED:20221116T112552Z
LAST-MODIFIED:20221209T103835Z
UID:11025-1671352200-1671366600@gewcministry.org
SUMMARY:December Central Healing Service
DESCRIPTION:“December Central Healing Service” Shall be transmitted via GEWC Satellite (CUTV) and Live-Streamed via all the Ministry’s online Channels. Date: Sunday 18th December 2022 Time: 8.30am Venue: All GEWC Local Churches.
URL:https://gewcministry.org/event/december-central-healing-service-2/
CATEGORIES:Healing Service
END:VEVENT
BEGIN:VEVENT
DTSTART;TZID=UTC:20221120T083000
DTEND;TZID=UTC:20221120T123000
DTSTAMP:20260424T125615
CREATED:20221024T093951Z
LAST-MODIFIED:20221116T111905Z
UID:10524-1668933000-1668947400@gewcministry.org
SUMMARY:November Central Healing Service
DESCRIPTION:“November Central Healing Service” Shall be transmitted via GEWC Satellite (CUTV) and Live-Streamed via all the Ministry’s online Channels. Date: Sunday 20th November 2022 Time: 8.30am Venue: All GEWC Local Churches.
URL:https://gewcministry.org/event/november-central-healing-service/
CATEGORIES:Healing Service
END:VEVENT
BEGIN:VEVENT
DTSTART;TZID=UTC:20220619T083000
DTEND;TZID=UTC:20220619T123000
DTSTAMP:20260424T125615
CREATED:20220530T145509Z
LAST-MODIFIED:20220530T145509Z
UID:7714-1655627400-1655641800@gewcministry.org
SUMMARY:June Central Healing Service
DESCRIPTION:“June Central Healing Service” Shall be transmitted via GEWC Satellite (CUTV) and Live-Streamed via all the Ministry’s online Channels. Date: Sunday 19thJune 2022 Time: 8.30am Venue: All GEWC Local Churches.
URL:https://gewcministry.org/event/june-central-healing-service/
CATEGORIES:Healing Service
END:VEVENT
BEGIN:VEVENT
DTSTART;TZID=UTC:20220522T083000
DTEND;TZID=UTC:20220522T123000
DTSTAMP:20260424T125615
CREATED:20220422T110529Z
LAST-MODIFIED:20220422T110529Z
UID:7263-1653208200-1653222600@gewcministry.org
SUMMARY:May Central Healing Service
DESCRIPTION:“May Central Healing Service”  Shall be transmitted  via GEWC Satellite (CUTV) and Live-Streamed via all the Ministry’s online Channels. Date: Sunday 22nd May 2022 Time: 8.30am Venue: All GEWC Local Churches.
URL:https://gewcministry.org/event/may-central-healing-service/
CATEGORIES:Healing Service
END:VEVENT
END:VCALENDAR