BEGIN:VCALENDAR
VERSION:2.0
PRODID:-//GEWC - ECPv6.15.11//NONSGML v1.0//EN
CALSCALE:GREGORIAN
METHOD:PUBLISH
X-WR-CALNAME:GEWC
X-ORIGINAL-URL:https://gewcministry.org
X-WR-CALDESC:Events for GEWC
REFRESH-INTERVAL;VALUE=DURATION:PT1H
X-Robots-Tag:noindex
X-PUBLISHED-TTL:PT1H
BEGIN:VTIMEZONE
TZID:UTC
BEGIN:STANDARD
TZOFFSETFROM:+0000
TZOFFSETTO:+0000
TZNAME:UTC
DTSTART:20210101T000000
END:STANDARD
END:VTIMEZONE
BEGIN:VEVENT
DTSTART;TZID=UTC:20220522T083000
DTEND;TZID=UTC:20220522T123000
DTSTAMP:20260424T163111
CREATED:20220422T110529Z
LAST-MODIFIED:20220422T110529Z
UID:7263-1653208200-1653222600@gewcministry.org
SUMMARY:May Central Healing Service
DESCRIPTION:“May Central Healing Service”  Shall be transmitted  via GEWC Satellite (CUTV) and Live-Streamed via all the Ministry’s online Channels. Date: Sunday 22nd May 2022 Time: 8.30am Venue: All GEWC Local Churches.
URL:https://gewcministry.org/event/may-central-healing-service/
CATEGORIES:Healing Service
END:VEVENT
END:VCALENDAR