BEGIN:VCALENDAR
VERSION:2.0
PRODID:-//GEWC - ECPv6.15.11//NONSGML v1.0//EN
CALSCALE:GREGORIAN
METHOD:PUBLISH
X-WR-CALNAME:GEWC
X-ORIGINAL-URL:https://gewcministry.org
X-WR-CALDESC:Events for GEWC
REFRESH-INTERVAL;VALUE=DURATION:PT1H
X-Robots-Tag:noindex
X-PUBLISHED-TTL:PT1H
BEGIN:VTIMEZONE
TZID:UTC
BEGIN:STANDARD
TZOFFSETFROM:+0000
TZOFFSETTO:+0000
TZNAME:UTC
DTSTART:20240101T000000
END:STANDARD
END:VTIMEZONE
BEGIN:VEVENT
DTSTART;TZID=UTC:20251127T160000
DTEND;TZID=UTC:20251129T170000
DTSTAMP:20260423T184440
CREATED:20251127T134931Z
LAST-MODIFIED:20251127T135616Z
UID:44444-1764259200-1764435600@gewcministry.org
SUMMARY:Minister's Wives  Conference
DESCRIPTION:  GEWC   Minister’s Wives  Conference\n  Theme: The   Soaring Ministers  Wife\n  Date:   Thursday  27th  – Saturday  29th\, November 2025.\n  Time:   Thursday  4pm.\n  Venue:  GEWC  World Headquarters\, Along  Port Harcourt International  Airport\,  Rukpokwu\, Rivers State.\n  Registration: 5000
URL:https://gewcministry.org/event/ministers-wives-conference-2/
CATEGORIES:Conference,Ministers Conference,Ministers wives
END:VEVENT
END:VCALENDAR