BEGIN:VCALENDAR
VERSION:2.0
PRODID:-//GEWC - ECPv6.15.11//NONSGML v1.0//EN
CALSCALE:GREGORIAN
METHOD:PUBLISH
X-WR-CALNAME:GEWC
X-ORIGINAL-URL:https://gewcministry.org
X-WR-CALDESC:Events for GEWC
REFRESH-INTERVAL;VALUE=DURATION:PT1H
X-Robots-Tag:noindex
X-PUBLISHED-TTL:PT1H
BEGIN:VTIMEZONE
TZID:UTC
BEGIN:STANDARD
TZOFFSETFROM:+0000
TZOFFSETTO:+0000
TZNAME:UTC
DTSTART:20220101T000000
END:STANDARD
END:VTIMEZONE
BEGIN:VEVENT
DTSTART;TZID=UTC:20231229T160000
DTEND;TZID=UTC:20240101T160000
DTSTAMP:20260424T161857
CREATED:20231204T121635Z
LAST-MODIFIED:20231204T121635Z
UID:27415-1703865600-1704124800@gewcministry.org
SUMMARY:Graeater Evangelism World Crusade  Recharge23
DESCRIPTION:Graeater Evangelism World Crusade  Recharge23 \nTheme: Thy Kingdom Come Matt. 6:10 \nDate: Fri 29th\, Dec – Mon 1st\, Jan 2024. \nTime:  Fri 29th\, Dec. 4:00pm\, \n            Sat 30th Dec  –  Mon 1st Jan. 9:00am \nVenue: GEWC International Headquarters\, Along Port Harcourt International Airport Road\, Rukpokwu\, Rivers State. \n 
URL:https://gewcministry.org/event/graeater-evangelism-world-crusade-recharge23/
CATEGORIES:Retreat
ATTACH;FMTTYPE=image/png:https://gewcministry.org/wp-content/uploads/2023/12/End-of-year-Banner-2023.png
END:VEVENT
END:VCALENDAR