BEGIN:VCALENDAR
VERSION:2.0
PRODID:-//GEWC - ECPv6.15.11//NONSGML v1.0//EN
CALSCALE:GREGORIAN
METHOD:PUBLISH
X-WR-CALNAME:GEWC
X-ORIGINAL-URL:https://gewcministry.org
X-WR-CALDESC:Events for GEWC
REFRESH-INTERVAL;VALUE=DURATION:PT1H
X-Robots-Tag:noindex
X-PUBLISHED-TTL:PT1H
BEGIN:VTIMEZONE
TZID:UTC
BEGIN:STANDARD
TZOFFSETFROM:+0000
TZOFFSETTO:+0000
TZNAME:UTC
DTSTART:20230101T000000
END:STANDARD
END:VTIMEZONE
BEGIN:VEVENT
DTSTART;TZID=UTC:20240215T080000
DTEND;TZID=UTC:20240217T170000
DTSTAMP:20260424T123415
CREATED:20240109T103534Z
LAST-MODIFIED:20240109T103534Z
UID:27930-1707984000-1708189200@gewcministry.org
SUMMARY:GEWC Intercessory Prayer Week
DESCRIPTION:Intercessory Prayer Week \nDate: Thursday 15th – Saturday 17th February 2024 \nVenue: All GEWC Local Church
URL:https://gewcministry.org/event/gewc-intercessory-prayer-week/
CATEGORIES:Retreat
END:VEVENT
END:VCALENDAR