BEGIN:VCALENDAR
VERSION:2.0
PRODID:-//GEWC - ECPv6.15.11//NONSGML v1.0//EN
CALSCALE:GREGORIAN
METHOD:PUBLISH
X-ORIGINAL-URL:https://gewcministry.org
X-WR-CALDESC:Events for GEWC
REFRESH-INTERVAL;VALUE=DURATION:PT1H
X-Robots-Tag:noindex
X-PUBLISHED-TTL:PT1H
BEGIN:VTIMEZONE
TZID:UTC
BEGIN:STANDARD
TZOFFSETFROM:+0000
TZOFFSETTO:+0000
TZNAME:UTC
DTSTART:20230101T000000
END:STANDARD
END:VTIMEZONE
BEGIN:VEVENT
DTSTART;TZID=UTC:20240711T170000
DTEND;TZID=UTC:20240714T193000
DTSTAMP:20260424T010025
CREATED:20240702T101506Z
LAST-MODIFIED:20240702T101506Z
UID:30116-1720717200-1720985400@gewcministry.org
SUMMARY:2024 Family Weekend
DESCRIPTION:2024 family weekend \nTheme: Marriage and the Family Relationships \nThursday 11th to Sunday 14th July\, 2024 \nVenue: GEWC Local Churches \nTime: 5pm on Thursday and Friday\, 10am on Saturday\, 8am on Sunday  \nFeaturing: Talks\, Seminar\, Interactive Session\, Intercession\, Thanksgiving. \n 
URL:https://gewcministry.org/event/2024-family-weekend/
CATEGORIES:Retreat
END:VEVENT
END:VCALENDAR