BEGIN:VCALENDAR
VERSION:2.0
PRODID:-//GEWC - ECPv6.15.11//NONSGML v1.0//EN
CALSCALE:GREGORIAN
METHOD:PUBLISH
X-ORIGINAL-URL:https://gewcministry.org
X-WR-CALDESC:Events for GEWC
REFRESH-INTERVAL;VALUE=DURATION:PT1H
X-Robots-Tag:noindex
X-PUBLISHED-TTL:PT1H
BEGIN:VTIMEZONE
TZID:UTC
BEGIN:STANDARD
TZOFFSETFROM:+0000
TZOFFSETTO:+0000
TZNAME:UTC
DTSTART:20230101T000000
END:STANDARD
END:VTIMEZONE
BEGIN:VEVENT
DTSTART;TZID=UTC:20241001T100000
DTEND;TZID=UTC:20241001T163000
DTSTAMP:20260423T202949
CREATED:20240826T140703Z
LAST-MODIFIED:20240826T140703Z
UID:30671-1727776800-1727800200@gewcministry.org
SUMMARY:Director’s Minister’s Forum
DESCRIPTION:Director’s Minister’s Forum\nDate: Tuesday 1st October\, 2024\nVenue: Rainbow Town Church\,\nTime: 10:00am
URL:https://gewcministry.org/event/directors-ministers-forum-2/
CATEGORIES:Retreat
END:VEVENT
BEGIN:VEVENT
DTSTART;TZID=UTC:20241017T170000
DTEND;TZID=UTC:20241019T193000
DTSTAMP:20260423T202949
CREATED:20240826T141030Z
LAST-MODIFIED:20240826T141030Z
UID:30673-1729184400-1729366200@gewcministry.org
SUMMARY:Intercessory Prayer Week
DESCRIPTION:Intercessory Prayer Week\nDate: Thursday 17th –Saturday 19th\, October\, 2024\nVenue: Local Churches\nTime: 5:00pm
URL:https://gewcministry.org/event/intercessory-prayer-week/
CATEGORIES:Retreat
END:VEVENT
END:VCALENDAR