BEGIN:VCALENDAR
VERSION:2.0
PRODID:-//GEWC - ECPv6.15.11//NONSGML v1.0//EN
CALSCALE:GREGORIAN
METHOD:PUBLISH
X-ORIGINAL-URL:https://gewcministry.org
X-WR-CALDESC:Events for GEWC
REFRESH-INTERVAL;VALUE=DURATION:PT1H
X-Robots-Tag:noindex
X-PUBLISHED-TTL:PT1H
BEGIN:VTIMEZONE
TZID:UTC
BEGIN:STANDARD
TZOFFSETFROM:+0000
TZOFFSETTO:+0000
TZNAME:UTC
DTSTART:20230101T000000
END:STANDARD
END:VTIMEZONE
BEGIN:VEVENT
DTSTART;TZID=UTC:20241106T100000
DTEND;TZID=UTC:20241107T170000
DTSTAMP:20260423T185127
CREATED:20241007T111111Z
LAST-MODIFIED:20241007T111111Z
UID:31086-1730887200-1730998800@gewcministry.org
SUMMARY:Senior Supervisory Minister's Retreat
DESCRIPTION:Senior Supervisory Minister’s Retreat Date: Wednesday 6th – Thursday 7th November\, 2024 Time: 10am Prompt
URL:https://gewcministry.org/event/senior-supervisory-ministers-retreat-5/
CATEGORIES:Ministers Conference,Retreat
END:VEVENT
END:VCALENDAR