BEGIN:VCALENDAR
VERSION:2.0
PRODID:-//GEWC - ECPv6.15.11//NONSGML v1.0//EN
CALSCALE:GREGORIAN
METHOD:PUBLISH
X-WR-CALNAME:GEWC
X-ORIGINAL-URL:https://gewcministry.org
X-WR-CALDESC:Events for GEWC
REFRESH-INTERVAL;VALUE=DURATION:PT1H
X-Robots-Tag:noindex
X-PUBLISHED-TTL:PT1H
BEGIN:VTIMEZONE
TZID:UTC
BEGIN:STANDARD
TZOFFSETFROM:+0000
TZOFFSETTO:+0000
TZNAME:UTC
DTSTART:20230101T000000
END:STANDARD
END:VTIMEZONE
BEGIN:VEVENT
DTSTART;TZID=UTC:20240113T100000
DTEND;TZID=UTC:20240113T123000
DTSTAMP:20260424T162308
CREATED:20240109T102508Z
LAST-MODIFIED:20240109T102508Z
UID:27926-1705140000-1705149000@gewcministry.org
SUMMARY:Church Workers Retreat
DESCRIPTION:Church Workers Retreat a mandatory program for all ministers’ elders and workers\nDate: Saturday 13th January\, 2024 \nVenue: GEWC Headquarters Temple Chapel along Port Harcourt Int’l Airport Road Rukpokwu\, For those within Port Harcourt. Other are to meet at their Area or Zonal Headquarters.\nTime: 10am
URL:https://gewcministry.org/event/church-workers-retreat/
CATEGORIES:Retreat
END:VEVENT
END:VCALENDAR