BEGIN:VCALENDAR
VERSION:2.0
PRODID:-//GEWC - ECPv6.15.11//NONSGML v1.0//EN
CALSCALE:GREGORIAN
METHOD:PUBLISH
X-ORIGINAL-URL:https://gewcministry.org
X-WR-CALDESC:Events for GEWC
REFRESH-INTERVAL;VALUE=DURATION:PT1H
X-Robots-Tag:noindex
X-PUBLISHED-TTL:PT1H
BEGIN:VTIMEZONE
TZID:UTC
BEGIN:STANDARD
TZOFFSETFROM:+0000
TZOFFSETTO:+0000
TZNAME:UTC
DTSTART:20230101T000000
END:STANDARD
END:VTIMEZONE
BEGIN:VEVENT
DTSTART;TZID=UTC:20240301T160000
DTEND;TZID=UTC:20240302T190000
DTSTAMP:20260424T124134
CREATED:20240109T105709Z
LAST-MODIFIED:20240109T105709Z
UID:27935-1709308800-1709406000@gewcministry.org
SUMMARY:Jubilee Voices Retreat With the Int’l Director  
DESCRIPTION:Jubilee Voices Retreat With the Int’l Director   \nDate: Friday 1st – Saturday 2nd March 2024 \nVenue: Rainbow Town Church\, 1 Abuloma Road\, Port Harcourt. \nTime: 4.00pm
URL:https://gewcministry.org/event/jubilee-voices-retreat-with-the-intl-director/
CATEGORIES:Retreat
END:VEVENT
END:VCALENDAR