BEGIN:VCALENDAR
VERSION:2.0
PRODID:-//GEWC - ECPv6.15.11//NONSGML v1.0//EN
CALSCALE:GREGORIAN
METHOD:PUBLISH
X-WR-CALNAME:GEWC
X-ORIGINAL-URL:https://gewcministry.org
X-WR-CALDESC:Events for GEWC
REFRESH-INTERVAL;VALUE=DURATION:PT1H
X-Robots-Tag:noindex
X-PUBLISHED-TTL:PT1H
BEGIN:VTIMEZONE
TZID:UTC
BEGIN:STANDARD
TZOFFSETFROM:+0000
TZOFFSETTO:+0000
TZNAME:UTC
DTSTART:20230101T000000
END:STANDARD
END:VTIMEZONE
BEGIN:VEVENT
DTSTART;TZID=UTC:20240328T160000
DTEND;TZID=UTC:20240331T190000
DTSTAMP:20260424T124001
CREATED:20240109T111839Z
LAST-MODIFIED:20240109T111839Z
UID:27949-1711641600-1711911600@gewcministry.org
SUMMARY:2024 Easter Retreat
DESCRIPTION:2024 Easter Retreat \nDate: Thursday 28th – Sunday 31st\, 2024 \nVenue: GEWC International headquarters\, along Port Harcourt International Airport Road\, Rukpokwu\, Rivers State\, & All GEWC Churches \nTime: 4:00pm Prompt
URL:https://gewcministry.org/event/2024-easter-retreat/
CATEGORIES:Conference,Easter Retreat 2024,Retreat
END:VEVENT
END:VCALENDAR