BEGIN:VCALENDAR
VERSION:2.0
PRODID:-//GEWC - ECPv6.15.11//NONSGML v1.0//EN
CALSCALE:GREGORIAN
METHOD:PUBLISH
X-WR-CALNAME:GEWC
X-ORIGINAL-URL:https://gewcministry.org
X-WR-CALDESC:Events for GEWC
REFRESH-INTERVAL;VALUE=DURATION:PT1H
X-Robots-Tag:noindex
X-PUBLISHED-TTL:PT1H
BEGIN:VTIMEZONE
TZID:UTC
BEGIN:STANDARD
TZOFFSETFROM:+0000
TZOFFSETTO:+0000
TZNAME:UTC
DTSTART:20230101T000000
END:STANDARD
END:VTIMEZONE
BEGIN:VEVENT
DTSTART;TZID=UTC:20240922T083000
DTEND;TZID=UTC:20240922T120000
DTSTAMP:20260425T220150
CREATED:20240819T125716Z
LAST-MODIFIED:20240819T125716Z
UID:30620-1726993800-1727006400@gewcministry.org
SUMMARY:September Central Healing Service
DESCRIPTION:“September Central Healing Service” Shall be transmitted via GEWC Satellite (CUTV) and Live-Streamed via all the Ministry’s online Channels. Date: Sunday 2snd September 2024 Time: 8.30am Venue: GEWC Headquarters Temple along Port Harcourt Int’l Airport Road Rukpokwu\, and all GEWC Local Churches.
URL:https://gewcministry.org/event/september-central-healing-service-4/
CATEGORIES:Healing Service,Thanksgiving
END:VEVENT
END:VCALENDAR