BEGIN:VCALENDAR
VERSION:2.0
PRODID:-//GEWC - ECPv6.15.11//NONSGML v1.0//EN
CALSCALE:GREGORIAN
METHOD:PUBLISH
X-WR-CALNAME:GEWC
X-ORIGINAL-URL:https://gewcministry.org
X-WR-CALDESC:Events for GEWC
REFRESH-INTERVAL;VALUE=DURATION:PT1H
X-Robots-Tag:noindex
X-PUBLISHED-TTL:PT1H
BEGIN:VTIMEZONE
TZID:UTC
BEGIN:STANDARD
TZOFFSETFROM:+0000
TZOFFSETTO:+0000
TZNAME:UTC
DTSTART:20250101T000000
END:STANDARD
END:VTIMEZONE
BEGIN:VEVENT
DTSTART;TZID=UTC:20260310T080000
DTEND;TZID=UTC:20260310T170000
DTSTAMP:20260425T194112
CREATED:20260310T123843Z
LAST-MODIFIED:20260310T134442Z
UID:46002-1773129600-1773162000@gewcministry.org
SUMMARY:Greater Evangelism World Crusade Easter Retreat 2026
DESCRIPTION:Theme: Resurrection the call of the hour (MATT 28:6-7)\n  \nHost: Pst. Issac Olori (int’l Director GEWC)\nApostle Frank Aikins\nBishop Jonathan Alao\n  \n    GEWC World Headquarters Along Port Harcourt International Airport\, Rukpokwu\, Rivers State.\n   \n   \n    Date:   Thurs 2nd – Sun 5th April 2026\n  \n    Thurs. 2nd 4PM\,\n    Fri. 3rd 9AM\,\n    Sat. 4th 9AM\,\n    Sun. 5th 9AM\n  \n   
URL:https://gewcministry.org/event/greater-evangelism-world-crusade-easter-retreat-2026/
ATTACH;FMTTYPE=application/pdf:https://gewcministry.org/wp-content/uploads/2026/03/2026-Retreat-Flyer.pdf
END:VEVENT
END:VCALENDAR